BEGIN:VCALENDAR
VERSION:2.0
PRODID:-//Trinity Laban Students&#039; Union - ECPv6.15.20//NONSGML v1.0//EN
CALSCALE:GREGORIAN
METHOD:PUBLISH
X-WR-CALNAME:Trinity Laban Students&#039; Union
X-ORIGINAL-URL:https://tlsu.org
X-WR-CALDESC:Events for Trinity Laban Students&#039; Union
REFRESH-INTERVAL;VALUE=DURATION:PT1H
X-Robots-Tag:noindex
X-PUBLISHED-TTL:PT1H
BEGIN:VTIMEZONE
TZID:Europe/London
BEGIN:DAYLIGHT
TZOFFSETFROM:+0000
TZOFFSETTO:+0100
TZNAME:BST
DTSTART:20240331T010000
END:DAYLIGHT
BEGIN:STANDARD
TZOFFSETFROM:+0100
TZOFFSETTO:+0000
TZNAME:GMT
DTSTART:20241027T010000
END:STANDARD
BEGIN:DAYLIGHT
TZOFFSETFROM:+0000
TZOFFSETTO:+0100
TZNAME:BST
DTSTART:20250330T010000
END:DAYLIGHT
BEGIN:STANDARD
TZOFFSETFROM:+0100
TZOFFSETTO:+0000
TZNAME:GMT
DTSTART:20251026T010000
END:STANDARD
BEGIN:DAYLIGHT
TZOFFSETFROM:+0000
TZOFFSETTO:+0100
TZNAME:BST
DTSTART:20260329T010000
END:DAYLIGHT
BEGIN:STANDARD
TZOFFSETFROM:+0100
TZOFFSETTO:+0000
TZNAME:GMT
DTSTART:20261025T010000
END:STANDARD
END:VTIMEZONE
BEGIN:VEVENT
DTSTART;TZID=Europe/London:20250111T193000
DTEND;TZID=Europe/London:20250112T000000
DTSTAMP:20260421T105451
CREATED:20241219T144120Z
LAST-MODIFIED:20241220T114803Z
UID:10000484-1736623800-1736640000@tlsu.org
SUMMARY:Winter Formal
DESCRIPTION:TLSU Winter Formal – An ALCOPA Event\n🎉 Get Ready for an Unforgettable Night at the TLSU Winter Formal! 🎶✨\nCelebrate the start of 2025 with an elegant evening at Blackheath Halls on January 11th. Enjoy live music\, a DJ to keep you dancing\, and a complimentary drink on arrival (first 100 tickets only). With a touch of glamour and a “dress to impress” vibe\, this is the perfect way to kick off the new term.
URL:https://tlsu.org/event/winter-formal/
LOCATION:Blackheath Halls\, 23 Lee Road\, Blackheath\, London\, SE3 9RQ\, United Kingdom
CATEGORIES:ALCOPA,Regular Events
ATTACH;FMTTYPE=image/png:https://tlsu.org/wp-content/uploads/2024/12/Winter-Formal-Artwork-ALCOPA.png
ORGANIZER;CN="TLSU":MAILTO:website@tlsu.org
END:VEVENT
END:VCALENDAR