BEGIN:VCALENDAR
VERSION:2.0
PRODID:-//Trinity Laban Students&#039; Union - ECPv6.15.20//NONSGML v1.0//EN
CALSCALE:GREGORIAN
METHOD:PUBLISH
X-WR-CALNAME:Trinity Laban Students&#039; Union
X-ORIGINAL-URL:https://tlsu.org
X-WR-CALDESC:Events for Trinity Laban Students&#039; Union
REFRESH-INTERVAL;VALUE=DURATION:PT1H
X-Robots-Tag:noindex
X-PUBLISHED-TTL:PT1H
BEGIN:VTIMEZONE
TZID:Europe/London
BEGIN:DAYLIGHT
TZOFFSETFROM:+0000
TZOFFSETTO:+0100
TZNAME:BST
DTSTART:20240331T010000
END:DAYLIGHT
BEGIN:STANDARD
TZOFFSETFROM:+0100
TZOFFSETTO:+0000
TZNAME:GMT
DTSTART:20241027T010000
END:STANDARD
BEGIN:DAYLIGHT
TZOFFSETFROM:+0000
TZOFFSETTO:+0100
TZNAME:BST
DTSTART:20250330T010000
END:DAYLIGHT
BEGIN:STANDARD
TZOFFSETFROM:+0100
TZOFFSETTO:+0000
TZNAME:GMT
DTSTART:20251026T010000
END:STANDARD
BEGIN:DAYLIGHT
TZOFFSETFROM:+0000
TZOFFSETTO:+0100
TZNAME:BST
DTSTART:20260329T010000
END:DAYLIGHT
BEGIN:STANDARD
TZOFFSETFROM:+0100
TZOFFSETTO:+0000
TZNAME:GMT
DTSTART:20261025T010000
END:STANDARD
END:VTIMEZONE
BEGIN:VEVENT
DTSTART;TZID=Europe/London:20250317T170000
DTEND;TZID=Europe/London:20250317T213000
DTSTAMP:20260421T105449
CREATED:20250304T164829Z
LAST-MODIFIED:20250304T164829Z
UID:10000630-1742230800-1742247000@tlsu.org
SUMMARY:TLSU Jazz Jam
DESCRIPTION:Join us every Monday at The Bar Downstairs for our weekly Jazz Jam. \nEach week will feature a house band followed by a Jam open to all. \nBar from 5 \nMusic from 7:30 \nInstagram @trinitylabanjazzjam
URL:https://tlsu.org/event/tlsu-jazz-jam-6/2025-03-17/
LOCATION:KCC\, King Charles Court\, Old Royal Naval College\, Greenwich\, London\, SE10 9JF\, United Kingdom
CATEGORIES:Regular Events
ATTACH;FMTTYPE=image/png:https://tlsu.org/wp-content/uploads/2023/10/Jazz-Jam-Square.png
ORGANIZER;CN="TLSU":MAILTO:website@tlsu.org
END:VEVENT
BEGIN:VEVENT
DTSTART;TZID=Europe/London:20250317T170000
DTEND;TZID=Europe/London:20250317T233000
DTSTAMP:20260421T105450
CREATED:20250304T165302Z
LAST-MODIFIED:20250304T165302Z
UID:10000632-1742230800-1742254200@tlsu.org
SUMMARY:St Patricks Day 2025
DESCRIPTION:St Patricks Day 2025 – Open until 11:30pm!\nJoin us at the bar downstairs on Monday 17th March for St Patricks Day where there will be live music\, Green Shots\, Baby Guinness and draught Guinness! It’s gonna a great night and you wont want to miss it! \nMusic by from Trinity Laban Jazz Jam!
URL:https://tlsu.org/event/st-patricks-day-2025/
LOCATION:KCC\, King Charles Court\, Old Royal Naval College\, Greenwich\, London\, SE10 9JF\, United Kingdom
CATEGORIES:Regular Events,Societies
ATTACH;FMTTYPE=image/png:https://tlsu.org/wp-content/uploads/2025/03/St-Patricks-Day.png
ORGANIZER;CN="TLSU":MAILTO:website@tlsu.org
END:VEVENT
END:VCALENDAR