BEGIN:VCALENDAR
VERSION:2.0
PRODID:-//Trinity Laban Students&#039; Union - ECPv6.15.20//NONSGML v1.0//EN
CALSCALE:GREGORIAN
METHOD:PUBLISH
X-WR-CALNAME:Trinity Laban Students&#039; Union
X-ORIGINAL-URL:https://tlsu.org
X-WR-CALDESC:Events for Trinity Laban Students&#039; Union
REFRESH-INTERVAL;VALUE=DURATION:PT1H
X-Robots-Tag:noindex
X-PUBLISHED-TTL:PT1H
BEGIN:VTIMEZONE
TZID:Europe/London
BEGIN:DAYLIGHT
TZOFFSETFROM:+0000
TZOFFSETTO:+0100
TZNAME:BST
DTSTART:20240331T010000
END:DAYLIGHT
BEGIN:STANDARD
TZOFFSETFROM:+0100
TZOFFSETTO:+0000
TZNAME:GMT
DTSTART:20241027T010000
END:STANDARD
BEGIN:DAYLIGHT
TZOFFSETFROM:+0000
TZOFFSETTO:+0100
TZNAME:BST
DTSTART:20250330T010000
END:DAYLIGHT
BEGIN:STANDARD
TZOFFSETFROM:+0100
TZOFFSETTO:+0000
TZNAME:GMT
DTSTART:20251026T010000
END:STANDARD
BEGIN:DAYLIGHT
TZOFFSETFROM:+0000
TZOFFSETTO:+0100
TZNAME:BST
DTSTART:20260329T010000
END:DAYLIGHT
BEGIN:STANDARD
TZOFFSETFROM:+0100
TZOFFSETTO:+0000
TZNAME:GMT
DTSTART:20261025T010000
END:STANDARD
END:VTIMEZONE
BEGIN:VEVENT
DTSTART;TZID=Europe/London:20250327T173000
DTEND;TZID=Europe/London:20250327T190000
DTSTAMP:20260421T121832
CREATED:20250311T121928Z
LAST-MODIFIED:20250311T121928Z
UID:10000633-1743096600-1743102000@tlsu.org
SUMMARY:Dance Class - Adri Garcia Pinilla
DESCRIPTION:SEVILLANAS & BULERIAS SOCIAL DANCE CLASS\nSevillanas & Bulerias Social Dance Class with Adri Garcia Pinilla\nLaban Studio TBA\nClass Description\nOn the 27th of March I would love to come in and lead a dance workshop with the Trinity Laban Students. \n– Sevillanas class: social dance. Set steps to each verse. I would teach the steps of the first verse \n– Bulerías: this is also a social dance\, however this dance works to the improv of the music and rhythm. This one uses claps and body percussion  \nBio\nTL Alumni\, Spanish born dancer Adriana has spent most of her life in the UK\, where she started dancing in school. Having trained in Contemporary dance at Trinity Laban\, Adriana seeks to continue learning about dance\, movement and the body. She is greatly influenced by her training with Ferus Animi Terra Nova Collective\, and has become part of her practice. \nAdriana has been on placement with Russell Maliphant Dance Company\, EQ Dance Co and Shaper Caper. She has performed in original works from Fubunation – Out of Many\, Divya Katsuri – Breath\, Lilli Hansen – Artistic Athlete\, or Anna Vharga ACT I Holding on; ACT II Letting go amongst others. She has also performed in Daniel Squire’s revival of MerceCunningham’s Story\, and a reworking of the opening of José Agudo’s Carmen. \nAdriana’s inquisitive personality has lead into the creation of works\, a byproduct of her explorations.  Known for bringing people in\, she mesmerizes her audiences with her unique movements and approach to creation. This young dance artist has dabbled in performance\, choreography and film-making. Interested in people\, and their interactions\, she weaves in her own experiences to produce her dance works.
URL:https://tlsu.org/event/dance-class-adri-garcia-pinilla/
LOCATION:Laban Building\, Laban Building\, Creekside\, Deptford\, London\, SE8 3DZ\, United Kingdom
CATEGORIES:Classes & Workshops
ATTACH;FMTTYPE=image/png:https://tlsu.org/wp-content/uploads/2025/03/Adri-GP.png
ORGANIZER;CN="TLSU":MAILTO:website@tlsu.org
END:VEVENT
END:VCALENDAR