BEGIN:VCALENDAR
VERSION:2.0
PRODID:-//Trinity Laban Students&#039; Union - ECPv6.15.20//NONSGML v1.0//EN
CALSCALE:GREGORIAN
METHOD:PUBLISH
X-WR-CALNAME:Trinity Laban Students&#039; Union
X-ORIGINAL-URL:https://tlsu.org
X-WR-CALDESC:Events for Trinity Laban Students&#039; Union
REFRESH-INTERVAL;VALUE=DURATION:PT1H
X-Robots-Tag:noindex
X-PUBLISHED-TTL:PT1H
BEGIN:VTIMEZONE
TZID:Europe/London
BEGIN:DAYLIGHT
TZOFFSETFROM:+0000
TZOFFSETTO:+0100
TZNAME:BST
DTSTART:20240331T010000
END:DAYLIGHT
BEGIN:STANDARD
TZOFFSETFROM:+0100
TZOFFSETTO:+0000
TZNAME:GMT
DTSTART:20241027T010000
END:STANDARD
BEGIN:DAYLIGHT
TZOFFSETFROM:+0000
TZOFFSETTO:+0100
TZNAME:BST
DTSTART:20250330T010000
END:DAYLIGHT
BEGIN:STANDARD
TZOFFSETFROM:+0100
TZOFFSETTO:+0000
TZNAME:GMT
DTSTART:20251026T010000
END:STANDARD
BEGIN:DAYLIGHT
TZOFFSETFROM:+0000
TZOFFSETTO:+0100
TZNAME:BST
DTSTART:20260329T010000
END:DAYLIGHT
BEGIN:STANDARD
TZOFFSETFROM:+0100
TZOFFSETTO:+0000
TZNAME:GMT
DTSTART:20261025T010000
END:STANDARD
END:VTIMEZONE
BEGIN:VEVENT
DTSTART;TZID=Europe/London:20250525T133000
DTEND;TZID=Europe/London:20250525T160000
DTSTAMP:20260421T232535
CREATED:20250519T111042Z
LAST-MODIFIED:20250520T121549Z
UID:10000638-1748179800-1748188800@tlsu.org
SUMMARY:Shakespeare Society - The Comedy of Errors
DESCRIPTION:Trinity Laban Shakespeare Society Presents:\nThe Comedy of Errors\nJoin the TL Shakespeare Society for their performance of The Comedy of Errors on May 25th in the Studio Theatre at Laban. \nTickets are just £3 so you won’t want to miss this! Click here to buy tickets
URL:https://tlsu.org/event/shakespeare-society-the-comedy-of-errors/
LOCATION:Laban Building\, Laban Building\, Creekside\, Deptford\, London\, SE8 3DZ\, United Kingdom
CATEGORIES:Societies
ATTACH;FMTTYPE=image/jpeg:https://tlsu.org/wp-content/uploads/2025/05/2C0F2F66-D7C3-4947-A033-E3EFFAAFD482-scaled.jpeg
ORGANIZER;CN="TLSU":MAILTO:website@tlsu.org
END:VEVENT
END:VCALENDAR